BEGIN:VCALENDAR
VERSION:2.0
PRODID:https://www.kufer.de/kuferweb / DE
METHOD:PUBLISH
CALSCALE:GREGORIAN
X-WR-TIMEZONE:Europe/Berlin
BEGIN:VTIMEZONE
TZID:Europe/Berlin
X-LIC-LOCATION:Europe/Berlin
BEGIN:DAYLIGHT
TZOFFSETFROM:+0100
TZOFFSETTO:+0200
TZNAME:CEST
DTSTART:19700329T020000
RRULE:FREQ=YEARLY;INTERVAL=1;BYDAY=-1SU;BYMONTH=3
END:DAYLIGHT
BEGIN:STANDARD
TZOFFSETFROM:+0200
TZOFFSETTO:+0100
TZNAME:CET
DTSTART:19701025T030000
RRULE:FREQ=YEARLY;INTERVAL=1;BYDAY=-1SU;BYMONTH=10
END:STANDARD
END:VTIMEZONE
BEGIN:VEVENT
DTSTAMP:20260421T155336
DTSTART;TZID=Europe/Berlin:20260831T170000
DTEND;TZID=Europe/Berlin:20260831T191500
UID:26-08 DSH-20260831T170000@MARIASPRING - LÄNDLICHE VHS
SUMMARY:26-08 DSH Vorbereitung (26-08 DSH) 
LOCATION:Sprachenzentrum, Raum 7, Pulverweg 65, 38678 Clausthal-Zellerfeld
END:VEVENT
BEGIN:VEVENT
DTSTAMP:20260421T155336
DTSTART;TZID=Europe/Berlin:20260901T170000
DTEND;TZID=Europe/Berlin:20260901T191500
UID:26-08 DSH-20260901T170000@MARIASPRING - LÄNDLICHE VHS
SUMMARY:26-08 DSH Vorbereitung (26-08 DSH) 
LOCATION:Sprachenzentrum, Raum 7, Pulverweg 65, 38678 Clausthal-Zellerfeld
END:VEVENT
BEGIN:VEVENT
DTSTAMP:20260421T155336
DTSTART;TZID=Europe/Berlin:20260902T170000
DTEND;TZID=Europe/Berlin:20260902T191500
UID:26-08 DSH-20260902T170000@MARIASPRING - LÄNDLICHE VHS
SUMMARY:26-08 DSH Vorbereitung (26-08 DSH) 
LOCATION:Sprachenzentrum, Raum 7, Pulverweg 65, 38678 Clausthal-Zellerfeld
END:VEVENT
BEGIN:VEVENT
DTSTAMP:20260421T155336
DTSTART;TZID=Europe/Berlin:20260903T170000
DTEND;TZID=Europe/Berlin:20260903T191500
UID:26-08 DSH-20260903T170000@MARIASPRING - LÄNDLICHE VHS
SUMMARY:26-08 DSH Vorbereitung (26-08 DSH) 
LOCATION:Sprachenzentrum, Raum 7, Pulverweg 65, 38678 Clausthal-Zellerfeld
END:VEVENT
BEGIN:VEVENT
DTSTAMP:20260421T155336
DTSTART;TZID=Europe/Berlin:20260907T170000
DTEND;TZID=Europe/Berlin:20260907T191500
UID:26-08 DSH-20260907T170000@MARIASPRING - LÄNDLICHE VHS
SUMMARY:26-08 DSH Vorbereitung (26-08 DSH) 
LOCATION:Sprachenzentrum, Raum 7, Pulverweg 65, 38678 Clausthal-Zellerfeld
END:VEVENT
BEGIN:VEVENT
DTSTAMP:20260421T155336
DTSTART;TZID=Europe/Berlin:20260908T170000
DTEND;TZID=Europe/Berlin:20260908T191500
UID:26-08 DSH-20260908T170000@MARIASPRING - LÄNDLICHE VHS
SUMMARY:26-08 DSH Vorbereitung (26-08 DSH) 
LOCATION:Sprachenzentrum, Raum 7, Pulverweg 65, 38678 Clausthal-Zellerfeld
END:VEVENT
BEGIN:VEVENT
DTSTAMP:20260421T155336
DTSTART;TZID=Europe/Berlin:20260909T170000
DTEND;TZID=Europe/Berlin:20260909T191500
UID:26-08 DSH-20260909T170000@MARIASPRING - LÄNDLICHE VHS
SUMMARY:26-08 DSH Vorbereitung (26-08 DSH) 
LOCATION:Sprachenzentrum, Raum 7, Pulverweg 65, 38678 Clausthal-Zellerfeld
END:VEVENT
BEGIN:VEVENT
DTSTAMP:20260421T155336
DTSTART;TZID=Europe/Berlin:20260910T170000
DTEND;TZID=Europe/Berlin:20260910T191500
UID:26-08 DSH-20260910T170000@MARIASPRING - LÄNDLICHE VHS
SUMMARY:26-08 DSH Vorbereitung (26-08 DSH) 
LOCATION:Sprachenzentrum, Raum 7, Pulverweg 65, 38678 Clausthal-Zellerfeld
END:VEVENT
END:VCALENDAR